BEGIN:VCALENDAR
VERSION:2.0
PRODID:-//Arkansas Area 4 - ECPv6.15.20//NONSGML v1.0//EN
CALSCALE:GREGORIAN
METHOD:PUBLISH
X-WR-CALNAME:Arkansas Area 4
X-ORIGINAL-URL:https://www.arkansasaa.org
X-WR-CALDESC:Events for Arkansas Area 4
REFRESH-INTERVAL;VALUE=DURATION:PT1H
X-Robots-Tag:noindex
X-PUBLISHED-TTL:PT1H
BEGIN:VTIMEZONE
TZID:America/Chicago
BEGIN:DAYLIGHT
TZOFFSETFROM:-0600
TZOFFSETTO:-0500
TZNAME:CDT
DTSTART:20260308T080000
END:DAYLIGHT
BEGIN:STANDARD
TZOFFSETFROM:-0500
TZOFFSETTO:-0600
TZNAME:CST
DTSTART:20261101T070000
END:STANDARD
BEGIN:DAYLIGHT
TZOFFSETFROM:-0600
TZOFFSETTO:-0500
TZNAME:CDT
DTSTART:20270314T080000
END:DAYLIGHT
BEGIN:STANDARD
TZOFFSETFROM:-0500
TZOFFSETTO:-0600
TZNAME:CST
DTSTART:20271107T070000
END:STANDARD
BEGIN:DAYLIGHT
TZOFFSETFROM:-0600
TZOFFSETTO:-0500
TZNAME:CDT
DTSTART:20280312T080000
END:DAYLIGHT
BEGIN:STANDARD
TZOFFSETFROM:-0500
TZOFFSETTO:-0600
TZNAME:CST
DTSTART:20281105T070000
END:STANDARD
END:VTIMEZONE
BEGIN:VEVENT
DTSTART;VALUE=DATE:20270109
DTEND;VALUE=DATE:20270111
DTSTAMP:20260421T185755
CREATED:20221113T170811Z
LAST-MODIFIED:20260413T174631Z
UID:1849-1799452800-1799625599@www.arkansasaa.org
SUMMARY:Winter Area Assembly January 9th and 10th\, 2027
DESCRIPTION:Area Assembly  January 9th and 10th\, 2027\nZoom Meeting ID: 931 0896 7121 Passcode: Box459 \nLink to Area Assembly ZOOM\nReserve your room at Holiday Inn Express & Suites-Russellville\, 300 East Harrell Drive\, Russellville.\nCall the Hotel at (479) 219-5152 and mention Area 4 Arkansas Assembly to get the discounted rate.\nEmail secretary@arkansasaa.org to ensure you receive updates regarding schedule changes.
URL:https://www.arkansasaa.org/event/january-area-assembly/
LOCATION:Holiday Inn Express\, 300 East Harrell Drive\, Russellville\, AR\, United States
CATEGORIES:Area 4 Event,Area Assembly,District 1,District 10,District 11,District 12,District 13,District 2,District 3,District 4,District 5,District 6,District 7,District 8,District 9,Service Meetings,Statewide
ATTACH;FMTTYPE=image/png:https://www.arkansasaa.org/wp-content/uploads/2022/02/cropped-cropped-A.png
END:VEVENT
END:VCALENDAR